BEGIN:VCALENDAR
VERSION:2.0
PRODID:-//Tobacco Merchant - ECPv6.15.20//NONSGML v1.0//EN
CALSCALE:GREGORIAN
METHOD:PUBLISH
X-ORIGINAL-URL:https://tobacco-merchant.com
X-WR-CALDESC:Events for Tobacco Merchant
REFRESH-INTERVAL;VALUE=DURATION:PT1H
X-Robots-Tag:noindex
X-PUBLISHED-TTL:PT1H
BEGIN:VTIMEZONE
TZID:America/New_York
BEGIN:DAYLIGHT
TZOFFSETFROM:-0500
TZOFFSETTO:-0400
TZNAME:EDT
DTSTART:20220313T070000
END:DAYLIGHT
BEGIN:STANDARD
TZOFFSETFROM:-0400
TZOFFSETTO:-0500
TZNAME:EST
DTSTART:20221106T060000
END:STANDARD
BEGIN:DAYLIGHT
TZOFFSETFROM:-0500
TZOFFSETTO:-0400
TZNAME:EDT
DTSTART:20230312T070000
END:DAYLIGHT
BEGIN:STANDARD
TZOFFSETFROM:-0400
TZOFFSETTO:-0500
TZNAME:EST
DTSTART:20231105T060000
END:STANDARD
BEGIN:DAYLIGHT
TZOFFSETFROM:-0500
TZOFFSETTO:-0400
TZNAME:EDT
DTSTART:20240310T070000
END:DAYLIGHT
BEGIN:STANDARD
TZOFFSETFROM:-0400
TZOFFSETTO:-0500
TZNAME:EST
DTSTART:20241103T060000
END:STANDARD
END:VTIMEZONE
BEGIN:VEVENT
DTSTART;TZID=America/New_York:20231117T170000
DTEND;TZID=America/New_York:20231117T210000
DTSTAMP:20260425T061718
CREATED:20230714T191322Z
LAST-MODIFIED:20230714T191322Z
UID:770-1700240400-1700254800@tobacco-merchant.com
SUMMARY:Micallef
DESCRIPTION:11/17/2023 Friday 5-9pm Micallef
URL:https://tobacco-merchant.com/event/micallef/
LOCATION:Tobacco Merchant\, 489 Piney Grove Rd\, Columbia\, 29210\, United States
END:VEVENT
BEGIN:VEVENT
DTSTART;TZID=America/New_York:20231020T170000
DTEND;TZID=America/New_York:20231020T210000
DTSTAMP:20260425T061718
CREATED:20230714T191240Z
LAST-MODIFIED:20231016T221717Z
UID:768-1697821200-1697835600@tobacco-merchant.com
SUMMARY:Tatuaje
DESCRIPTION:  \n10/20/2023 Friday 5-9pm Tatuaje \n*Monster Event
URL:https://tobacco-merchant.com/event/tatuaje/
LOCATION:Tobacco Merchant\, 489 Piney Grove Rd\, Columbia\, 29210\, United States
END:VEVENT
BEGIN:VEVENT
DTSTART;TZID=America/New_York:20230914T170000
DTEND;TZID=America/New_York:20230914T210000
DTSTAMP:20260425T061718
CREATED:20230714T191147Z
LAST-MODIFIED:20230714T191147Z
UID:766-1694710800-1694725200@tobacco-merchant.com
SUMMARY:Espinosa
DESCRIPTION:9/14/2023 Thursday 5-9pm Espinosa
URL:https://tobacco-merchant.com/event/espinosa/
LOCATION:Tobacco Merchant\, 489 Piney Grove Rd\, Columbia\, 29210\, United States
END:VEVENT
BEGIN:VEVENT
DTSTART;TZID=America/New_York:20230818T170000
DTEND;TZID=America/New_York:20230818T210000
DTSTAMP:20260425T061718
CREATED:20230714T190948Z
LAST-MODIFIED:20230714T190948Z
UID:764-1692378000-1692392400@tobacco-merchant.com
SUMMARY:My Father
DESCRIPTION:8/18/2023 Friday 5-9pm My Father
URL:https://tobacco-merchant.com/event/my-father/
LOCATION:Tobacco Merchant\, 489 Piney Grove Rd\, Columbia\, 29210\, United States
END:VEVENT
BEGIN:VEVENT
DTSTART;TZID=America/New_York:20230714T170000
DTEND;TZID=America/New_York:20230714T210000
DTSTAMP:20260425T061718
CREATED:20230714T190813Z
LAST-MODIFIED:20230714T190813Z
UID:761-1689354000-1689368400@tobacco-merchant.com
SUMMARY:Aganorsa Leaf
DESCRIPTION:7/14/2023 Friday 5-9pm Aganorsa Leaf \n*Fuma Tasting + Event
URL:https://tobacco-merchant.com/event/aganorsa-leaf/
LOCATION:Tobacco Merchant\, 489 Piney Grove Rd\, Columbia\, 29210\, United States
END:VEVENT
END:VCALENDAR